BEGIN:VCALENDAR
VERSION:2.0
PRODID:-//GAChiro - ECPv6.12.0//NONSGML v1.0//EN
CALSCALE:GREGORIAN
METHOD:PUBLISH
X-WR-CALNAME:GAChiro
X-ORIGINAL-URL:https://www.gachiro.org
X-WR-CALDESC:Events for GAChiro
REFRESH-INTERVAL;VALUE=DURATION:PT1H
X-Robots-Tag:noindex
X-PUBLISHED-TTL:PT1H
BEGIN:VTIMEZONE
TZID:UTC
BEGIN:STANDARD
TZOFFSETFROM:+0000
TZOFFSETTO:+0000
TZNAME:UTC
DTSTART:20260101T000000
END:STANDARD
END:VTIMEZONE
BEGIN:VEVENT
DTSTART;TZID=UTC:20260204T080000
DTEND;TZID=UTC:20260204T170000
DTSTAMP:20260419T230246
CREATED:20260204T165657Z
LAST-MODIFIED:20260204T165657Z
UID:3790-1770192000-1770224400@www.gachiro.org
SUMMARY:GCA 2026 Capitol Day
DESCRIPTION:Join GCA under the Gold Dome on Tuesday\, February 10 for GCA Capitol Day!\nIMPORTANT: ROOM LOCATION CHANGE\nCapitol Building\nFirst Floor – Room 132\n206 Washington Street\, SW\nAtlanta\, GA\n8:00 am – 9:30 am \nClick here to RSVP! \nThe meeting will begin at 8:00 am sharp\, so please plan accordingly! \nWe’ll be meeting with legislators to build support for Representative Karen Mathiak’s Insurance Transparency Bill to protect Georgia patients and improve access to timely care. We’ll also be hearing from our lobbying team\, Thrash-Haliburton\, about the overall session and what we can do to continue to promote and protect chiropractic at the state level. \nRemember to bring a government-issued ID (such as a driver’s license) to enter the Capitol building. \nGCA recommends attendees plan to park at the Pete Hackney Deck located at the corner of Jesse Hill Jr. Drive and Decatur Street. Parking is $10 for 2 hours. The garage has a maximum height of 8’2″. \nMeeting Location\nCapitol Building\nFirst Floor – Room 132\n206 Washington Street\, SW\nAtlanta\, GA \nRecommended Parking Deck\nPete Hackney Deck\n162 Jesse Hill Jr. Dr.\nAtlanta\, Georgia
URL:https://www.gachiro.org/event/gca-2026-capitol-day/
END:VEVENT
BEGIN:VEVENT
DTSTART;TZID=UTC:20260218T120000
DTEND;TZID=UTC:20260218T130000
DTSTAMP:20260419T230246
CREATED:20260210T164140Z
LAST-MODIFIED:20260210T165019Z
UID:3824-1771416000-1771419600@www.gachiro.org
SUMMARY:February Member Webinar - Navigating Medicare Advantage
DESCRIPTION:Join GCA for our next webinar\, Wednesday\, February 18 at 12:00 pm as we discuss “Navigating Medicare Advantage” with Lisa Maciejewski-West\, Owner/Founder of Gold Star Medical Business Services! \nMedicare Advantage Billing and Coding…. is it the same as Medicare B? Yes! Is it different than Medicare B? Yes! And this is where all the confusion comes from! \nIn this webinar\, we will explore the similarities and differences in the rules and regulations regarding Medicare Advantage vs. Medicare Part B coding\, billing and compliance\, as well as provider enrollment considerations and how provider enrollment types affect billing.\nClick here to register today!
URL:https://www.gachiro.org/event/february-member-webinar-navigating-medicare-advantage/
CATEGORIES:Member Webinar
END:VEVENT
BEGIN:VEVENT
DTSTART;TZID=UTC:20260305T183000
DTEND;TZID=UTC:20260305T203000
DTSTAMP:20260419T230246
CREATED:20260205T165847Z
LAST-MODIFIED:20260205T165929Z
UID:3803-1772735400-1772742600@www.gachiro.org
SUMMARY:District 2 Meeting
DESCRIPTION:
URL:https://www.gachiro.org/event/district-2-meeting/
LOCATION:Marlow’s Tavern\, 2960 Shallowford Rd\, Marietta\, GA\, 30066\, United States
CATEGORIES:District Meeting
END:VEVENT
BEGIN:VEVENT
DTSTART;TZID=UTC:20260309T183000
DTEND;TZID=UTC:20260309T203000
DTSTAMP:20260419T230246
CREATED:20260205T170310Z
LAST-MODIFIED:20260205T170310Z
UID:3807-1773081000-1773088200@www.gachiro.org
SUMMARY:District 10 Meeting
DESCRIPTION:
URL:https://www.gachiro.org/event/district-10-meeting/
LOCATION:Carey Hilliards Restaurant\, 8410 Waters Ave.\, Savannah\, GA\, 31406\, United States
CATEGORIES:District Meeting
END:VEVENT
BEGIN:VEVENT
DTSTART;TZID=UTC:20260311T183000
DTEND;TZID=UTC:20260311T203000
DTSTAMP:20260419T230246
CREATED:20260205T164220Z
LAST-MODIFIED:20260205T170021Z
UID:3793-1773253800-1773261000@www.gachiro.org
SUMMARY:District 7 Meeting
DESCRIPTION:
URL:https://www.gachiro.org/event/district-7-meeting/
LOCATION:Watkins Total Healthcare\, 961 Green St\, NE\, Gainesville\, GA\, United States
CATEGORIES:District Meeting
END:VEVENT
BEGIN:VEVENT
DTSTART;TZID=UTC:20260312T183000
DTEND;TZID=UTC:20260312T203000
DTSTAMP:20260419T230246
CREATED:20260205T165347Z
LAST-MODIFIED:20260205T170048Z
UID:3797-1773340200-1773347400@www.gachiro.org
SUMMARY:District 1 Meeting
DESCRIPTION:
URL:https://www.gachiro.org/event/district-1-meeting/
LOCATION:Alpha Omega OBGYN\, 3265 Northpoint Parkway #103\, Alpharetta\, GA\, 30005\, United States
CATEGORIES:District Meeting
END:VEVENT
BEGIN:VEVENT
DTSTART;TZID=UTC:20260402T190000
DTEND;TZID=UTC:20260402T210000
DTSTAMP:20260419T230246
CREATED:20260317T155629Z
LAST-MODIFIED:20260317T155903Z
UID:3983-1775156400-1775163600@www.gachiro.org
SUMMARY:District 1 - April Meeting
DESCRIPTION:District 1 (Fulton County)- we invite you to join us on Thursday\, April 2 from 7:00 – 9:oo PM at The Back Nine at The Works Upper West Side! We’ll enjoy drinks and lite bites\, along with some virtual golf! Open to GCA members and non-members. Come learn about what GCA can do for you! RSVP to Stephani at stucker@gachiro.org. \nThe Back Nine – The Works Upper West Side\n212 Chattahoochee Row\, NW\nAtlanta\, GA 30128
URL:https://www.gachiro.org/event/district-1-april-meeting/
LOCATION:The Back Nine\, 212 Chattahoochee Row\, NW\, Atlanta\, GA\, 30128\, United States
CATEGORIES:District Meeting
END:VEVENT
BEGIN:VEVENT
DTSTART;TZID=UTC:20260416T120000
DTEND;TZID=UTC:20260416T130000
DTSTAMP:20260419T230246
CREATED:20260401T173535Z
LAST-MODIFIED:20260401T173626Z
UID:4039-1776340800-1776344400@www.gachiro.org
SUMMARY:April GCA Webinar - Hiring Smarter\, Not Harder: Finding the Right Chiropractic Team Members
DESCRIPTION:Save the date for GCA’s April Webinar! Join us on Thursday\, April 16 as we explore everything you need to know about hiring\, retaining\, and investing in the right team for your practice! Sarah Shapiro\, founder of Healthcare Hiring Solutions\, will help us navigate the struggles of today’s employment landscape and start “Hiring Smarter\, Not Harder!” If you’re looking to expand your team\, replace retiring staff members\, etc.\, you’ll want to be on this call! \nClick here to RSVP!
URL:https://www.gachiro.org/event/april-gca-webinar/
END:VEVENT
BEGIN:VEVENT
DTSTART;TZID=UTC:20260430T180000
DTEND;TZID=UTC:20260430T200000
DTSTAMP:20260419T230246
CREATED:20260406T151615Z
LAST-MODIFIED:20260413T135155Z
UID:4049-1777572000-1777579200@www.gachiro.org
SUMMARY:GCA 2026 Spring Social
DESCRIPTION:Join GCA for our Spring Social on Thursday\, April 30 from 6:00 PM – 8:00 PM at Live! At The Battery – Lower Tavern. We’ll enjoy drinks\, lite bites\, and great company as we celebrate spring and our chiropractic community! Members\, non-members\, and GCA Partners are welcome to attend! Registration closes Friday\, April 24.\n\n\nClick here to RSVP!\n\n\nGCA is grateful to Samuel Johnson and Associates and NutriDyn for making this great event possible!
URL:https://www.gachiro.org/event/gca-2026-spring-social/
CATEGORIES:Social
END:VEVENT
BEGIN:VEVENT
DTSTART;TZID=UTC:20260509T090000
DTEND;TZID=UTC:20260509T170000
DTSTAMP:20260419T230246
CREATED:20260401T165110Z
LAST-MODIFIED:20260401T171706Z
UID:4034-1778317200-1778346000@www.gachiro.org
SUMMARY:1st Annual Georgia Chiropractic Gathering co-sponsored by the GCA and GCC
DESCRIPTION:Join colleagues from across the state for the 1st Annual Georgia Chiropractic Gathering at Life University\, a landmark day devoted to the philosophy and business of chiropractic in Georgia. Hosted by Life University and co-sponsored by the Georgia Chiropractic Association and the Georgia Council of Chiropractic\, this unique event brings together two leading state associations in a spirit of collaboration\, mutual respect\, and shared purpose. \nThis one-day summit will feature powerful keynote addresses\, a focus on principled chiropractic philosophy\, and practical discussions on building and sustaining successful chiropractic practices in today’s evolving healthcare and business landscape. Brief presentations from each association will highlight their respective missions\, initiatives\, and resources\, while creating an environment where every Georgia chiropractor feels welcome\, valued\, and part of a larger professional family. \nTogether\, participants will help shape a new chapter for chiropractic in Georgia—one rooted in connection\, open dialogue\, and a shared commitment to advance the profession for the benefit of patients and communities across the state. \n  \nClick here to learn more or to register!\nLife University will host a Student Recruitment Event (SRE) in conjunction with The 1st Annual Georgia Chiropractic Gathering. We ask that you please encourage prospective DC students to register and attend this event\, and together we will grow the profession we love. \nClick here to register a prospective DC student.
URL:https://www.gachiro.org/event/1st-annual-georgia-chiropractic-gathering-co-sponsored-by-the-gca-and-gcc/
END:VEVENT
BEGIN:VEVENT
DTSTART;VALUE=DATE:20260605
DTEND;VALUE=DATE:20260608
DTSTAMP:20260419T230246
CREATED:20251209T200543Z
LAST-MODIFIED:20260407T184356Z
UID:3594-1780617600-1780876799@www.gachiro.org
SUMMARY:GCA 2026 Summer Conference
DESCRIPTION:Join GCA in beautiful\, historic Savannah\, Georgia June 5 – 7\, 2026 at the DeSoto Hotel for a full weekend of continuing education\, networking\, and connecting with Georgia’s chiropractic community! \nConference registration includes: \n\nCE Class Registration (20\, 15\, 12\, or 5 CE)\nA light breakfast Friday\, Saturday\, and Sunday\nGCA Welcome Luncheon on Friday and Lunch & Georgia Law Class on Saturday (lunches complimentary for all conference registrants)\nGCA Welcome Mix & Mingle on Friday evening after class\nGCA-PAC Reception on Saturday evening\nAccess to the Tradeshow Hall\nAnd more!\n\nGCA members save on continuing education! Be sure to sign in to receive your member pricing using the email address associated with your GCA account. \nIf you are not a GCA member\, you will need to create a new account as we have recently moved to a new association management software. \nTake advantage of GCA’s discounted hotel block at the DeSoto Hotel and book your hotel stay today! Click here to book. You must use this link to receive the discounted room rate online. Hotel block closes on May 14! \nExhibitor Registration is now open! For questions\, contact Whitney Jones at wjones@gachiro.org. \nRegister for Summer Conference Exhibitor Registration
URL:https://www.gachiro.org/event/gca-2026-summer-conference/
LOCATION:DeSoto Hotel Savannah\, 15 E Liberty Savannah\, GA 31401-3920 US\, Savannah\, GA\, United States
END:VEVENT
BEGIN:VEVENT
DTSTART;VALUE=DATE:20261016
DTEND;VALUE=DATE:20261019
DTSTAMP:20260419T230246
CREATED:20250516T153039Z
LAST-MODIFIED:20251209T203049Z
UID:1534-1792108800-1792367999@www.gachiro.org
SUMMARY:GCA 2026 Fall Conference
DESCRIPTION:The 114th Georgia Annual Fall Conference & Tradeshow Exhibition will take place October 16 – 18\, 2026 at the Hotel at Avalon. Save the date! We look forward to seeing you there!
URL:https://www.gachiro.org/event/gca-2026-fall-conference/
LOCATION:The Hotel at Avalon\, 9000 Avalon Blvd\, Alpharetta\, GA\, 30009\, United States
END:VEVENT
END:VCALENDAR