BEGIN:VCALENDAR
VERSION:2.0
PRODID:-//GAChiro - ECPv6.12.0//NONSGML v1.0//EN
CALSCALE:GREGORIAN
METHOD:PUBLISH
X-ORIGINAL-URL:https://www.gachiro.org
X-WR-CALDESC:Events for GAChiro
REFRESH-INTERVAL;VALUE=DURATION:PT1H
X-Robots-Tag:noindex
X-PUBLISHED-TTL:PT1H
BEGIN:VTIMEZONE
TZID:UTC
BEGIN:STANDARD
TZOFFSETFROM:+0000
TZOFFSETTO:+0000
TZNAME:UTC
DTSTART:20250101T000000
END:STANDARD
END:VTIMEZONE
BEGIN:VEVENT
DTSTART;TZID=UTC:20250615T080000
DTEND;TZID=UTC:20250615T120000
DTSTAMP:20260420T074145
CREATED:20250528T192650Z
LAST-MODIFIED:20250702T200858Z
UID:3179-1749974400-1749988800@www.gachiro.org
SUMMARY:GCA's 2025 Summer Conference
DESCRIPTION:Thank you for a great summer conference! We look forward to seeing you again in Savannah in 2026! \n\n  \n  \n  \n\n\nDownload as iCal file\nDeSoto Hotel Savannah\n15 E Liberty\nSavannah\, GA 31401-3920\nUS\n912-232-9000View additional information
URL:https://www.gachiro.org/event/gcas-2025-summer-conference-2/
LOCATION:DeSoto Hotel Savannah\, 15 E Liberty Savannah\, GA 31401-3920 US\, Savannah\, GA\, United States
CATEGORIES:conference
END:VEVENT
END:VCALENDAR