BEGIN:VCALENDAR
VERSION:2.0
PRODID:-//GAChiro - ECPv6.12.0//NONSGML v1.0//EN
CALSCALE:GREGORIAN
METHOD:PUBLISH
X-WR-CALNAME:GAChiro
X-ORIGINAL-URL:https://www.gachiro.org
X-WR-CALDESC:Events for GAChiro
REFRESH-INTERVAL;VALUE=DURATION:PT1H
X-Robots-Tag:noindex
X-PUBLISHED-TTL:PT1H
BEGIN:VTIMEZONE
TZID:UTC
BEGIN:STANDARD
TZOFFSETFROM:+0000
TZOFFSETTO:+0000
TZNAME:UTC
DTSTART:20250101T000000
END:STANDARD
END:VTIMEZONE
BEGIN:VEVENT
DTSTART;TZID=UTC:20250614T080000
DTEND;TZID=UTC:20250614T170000
DTSTAMP:20260420T073843
CREATED:20250416T235743Z
LAST-MODIFIED:20250617T180148Z
UID:756-1749888000-1749920400@www.gachiro.org
SUMMARY:GCA's 2025 Summer Conference
DESCRIPTION:Thank you for a fantastic weekend of continuing education in Savannah! We look forward to returning to the DeSoto Hotel for next year’s conference\, June 5-7\, 2026. We hope to see you there!
URL:https://www.gachiro.org/event/gca-2025-summer-conference/
LOCATION:DeSoto Hotel Savannah\, 15 E Liberty Savannah\, GA 31401-3920 US\, Savannah\, GA\, United States
CATEGORIES:conference
END:VEVENT
END:VCALENDAR